Workbook

Sheet 4 line
A1: 4Line 기술 신청표
AB2: 1. 기술 개수 제한 | AG2: 2. 연결가산점수 계산
AB3: 구분 | AC3: 기술명 | AD3: 빈도 | AE3: MESSAGE
A4: 선수정보 | AB4: 라인1 (3com) | AC4: =B12 -> 0 | AD4: =COUNTIF($AC$4:AC$31,AC4) -> 10 | AE4: =IF(OR(AC4=0,AC4="훅"),"",IF(AD4>3,AC4&" "&AD4&"회","")) | AG4: 연결가산점수 배점표 | AI4: 기본점수 | AJ4: 한 기술 5점 이상 | AK4: 5점 이상 + 4점 이상 | AL4: 5점 이상 + 5점 이상
AC5: =D12 -> 훅 | AD5: =COUNTIF($AC$4:AC$31,AC5) -> 4 | AE5: =IF(OR(AC5=0,AC5="훅"),"",IF(AD5>3,AC5&" "&AD5&"회",""))
A6: 참가부문 | H6: 팀명 | T6: 선수명 | AC6: =F12 -> c720 | AD6: =COUNTIF($AC$4:AC$31,AC6) -> 3 | AE6: =IF(AD6>2,AC6&" "&AD6&"회","") -> c720 3회 | AI6: 1 | AJ6: 2 | AK6: 3 | AL6: 4
AC7: =J12 -> 0 | AD7: =COUNTIF($AC$4:AC$31,AC7) -> 10 | AE7: =IF(OR(AC7=0,AC7="훅"),"",IF(AD7>3,AC7&" "&AD7&"회","")) | AG7: s/t | AH7: 1 | AI7: 0.5 | AJ7: 1 | AK7: 2 | AL7: 3
AC8: =L12 -> 훅 | AD8: =COUNTIF($AC$4:AC$31,AC8) -> 4 | AE8: =IF(OR(AC8=0,AC8="훅"),"",IF(AD8>3,AC8&" "&AD8&"회","")) | AG8: c/t | AH8: 2 | AI8: 0.5 | AJ8: 1 | AK8: 2 | AL8: 3
A9: 기술구성안 | AC9: =L14 -> 0 | AD9: =COUNTIF($AC$4:AC$31,AC9) -> 10 | AE9: =IF(OR(AC9=0,AC9="훅"),"",IF(AD9>3,AC9&" "&AD9&"회","")) | AG9: A기술 0개 | AH9: 3 | AI9: 0.3 | AJ9: 0.5 | AK9: 0.5 | AL9: 2
AC10: =N12 -> c720 | AD10: =COUNTIF($AC$4:AC$31,AC10) -> 3 | AE10: =IF(AD10>2,AC10&" "&AD10&"회","") -> c720 3회 | AG10: A기술 1개 | AH10: 4 | AI10: 0.2 | AJ10: 0.3 | AK10: 0.3 | AL10: 0.5
A11: 기술 구성 | Z11: 신청 점수 | AC11: =R12 -> 훅 | AD11: =COUNTIF($AC$4:AC$31,AC11) -> 4 | AE11: =IF(OR(AC11=0,AC11="훅"),"",IF(AD11>3,AC11&" "&AD11&"회","")) | AG11: A기술 2개 | AH11: 5 | AI11: 0.1 | AJ11: 0.2 | AK11: 0.2 | AL11: 0.3
A12: 라인1 (3com) | D12: 훅 | F12: c720 | L12: 훅 | N12: c720 | R12: 훅 | T12: 측전 | V12: 훌턴 | Z12: =F15+J15+N15+R15+V15 -> 9 | AC12: =T12 -> 측전 | AD12: =COUNTIF($AC$4:AC$31,AC12) -> 2 | AE12: =IF(OR(AC12=0,AC12="훅"),"",IF(AD12>3,AC12&" "&AD12&"회","")) | AG12: A기술 3개 | AH12: 6 | AI12: 0 | AJ12: 0 | AK12: 0 | AL12: 0
AC13: =T14 -> 0 | AD13: =COUNTIF($AC$4:AC$31,AC13) -> 10 | AE13: =IF(OR(AC13=0,AC13="훅"),"",IF(AD13>3,AC13&" "&AD13&"회",""))
AC14: =V12 -> 훌턴 | AD14: =COUNTIF($AC$4:AC$31,AC14) -> 1 | AE14: =IF(AD14>2,AC14&" "&AD14&"회","") | AG14: 연결기 | AH14: =IF(ISBLANK(L14),IF(J12=$AG$7,$AH$7,IF(OR(J12=$AG$8,L12=$AG$8),$AH$8,IF(ISBLANK(J12),$AH$9,IF(ISBLANK(L12),$AH$10,$AH$11)))),$AH$12) -> 3 | AI14: =IF(ISBLANK(T14),IF(R12=$AG$7,$AH$7,IF(OR(R12=$AG$8,T12=$AG$8),$AH$8,IF(ISBLANK(R12),$AH$9,IF(ISBLANK(T12),$AH$10,$AH$11)))),$AH$12) -> 5
B15: =IF(OR(B12=$AG$8,D12=$AG$8),IF(F15>=5,$AJ$8,$AI$8),0) -> 0 | F15: =VLOOKUP(F12,기준!$B:$C,2,FALSE) -> 2.8 | J15: =AH16 -> 0.3 | N15: =VLOOKUP(N12,기준!$B:$C,2,FALSE) -> 2.8 | R15: =AI16 -> 0.1 | V15: =VLOOKUP(V12,기준!$B:$C,2,FALSE) -> 3 | AB15: 라인2 (2com) | AC15: =B17 -> 0 | AD15: =COUNTIF($AC$4:AC$31,AC15) -> 10 | AE15: =IF(OR(AC15=0,AC15="훅"),"",IF(AD15>3,AC15&" "&AD15&"회","")) | AG15: 앞뒤기술종류 | AH15: =IF(AND(F15>=5,N15>=5),$AL$6,IF(OR(AND(F15>=5,N15>=4),AND(F15>=4,N15>=5)),$AK$6,IF(OR(F15>=5,N15>=5),$AJ$6,$AI$6))) -> 1 | AI15: =IF(AND(N15>=5,V15>=5),$AL$6,IF(OR(AND(N15>=5,V15>=4),AND(N15>=4,V15>=5)),$AK$6,IF(OR(N15>=5,V15>=5),$AJ$6,$AI$6))) -> 1
AC16: =E17 -> 훅 | AD16: =COUNTIF($AC$4:AC$31,AC16) -> 4 | AE16: =IF(OR(AC16=0,AC16="훅"),"",IF(AD16>3,AC16&" "&AD16&"회","")) | AG16: 배점 | AH16: =INDEX($AI$7:$AL$12,AH14,AH15) -> 0.3 | AI16: =INDEX($AI$7:$AL$12,AI14,AI15) -> 0.1
A17: 라인2 (2com) | E17: 훅 | H17: c720 | N17: c/t | Q17: 스쿱 | T17: 콕스더블 | Z17: =H20+N20+T20 -> 8.8 | AC17: =H17 -> c720 | AD17: =COUNTIF($AC$4:AC$31,AC17) -> 3 | AE17: =IF(AD17>2,AC17&" "&AD17&"회","") -> c720 3회
AC18: =N17 -> c/t | AD18: =COUNTIF($AC$4:AC$31,AC18) -> 1 | AE18: =IF(OR(AC18=0,AC18="훅"),"",IF(AD18>3,AC18&" "&AD18&"회",""))
AC19: =Q17 -> 스쿱 | AD19: =COUNTIF($AC$4:AC$31,AC19) -> 1 | AE19: =IF(OR(AC19=0,AC19="훅"),"",IF(AD19>3,AC19&" "&AD19&"회","")) | AG19: 연결기 | AH19: =IF(ISBLANK(Q19),IF(N17=$AG$7,$AH$7,IF(OR(N17=$AG$8,Q17=$AG$8),$AH$8,IF(ISBLANK(N17),$AH$9,IF(ISBLANK(Q17),$AH$10,$AH$11)))),$AH$12) -> 2
B20: =IF(OR(B17=$AG$8,E17=$AG$8),IF(H20>=5,$AJ$8,$AI$8),0) -> 0 | H20: =VLOOKUP(H17,기준!$B:$C,2,FALSE) -> 2.8 | N20: =AH21 -> 1 | T20: =VLOOKUP(T17,기준!$B:$C,2,FALSE) -> 5 | AC20: =Q19 -> 0 | AD20: =COUNTIF($AC$4:AC$31,AC20) -> 10 | AE20: =IF(OR(AC20=0,AC20="훅"),"",IF(AD20>3,AC20&" "&AD20&"회","")) | AG20: 앞뒤기술종류 | AH20: =IF(AND(H20>=5,T20>=5),$AL$6,IF(OR(AND(H20>=5,T20>=4),AND(H20>=4,T20>=5)),$AK$6,IF(OR(H20>=5,T20>=5),$AJ$6,$AI$6))) -> 2
AC21: =T17 -> 콕스더블 | AD21: =COUNTIF($AC$4:AC$31,AC21) -> 2 | AE21: =IF(AD21>2,AC21&" "&AD21&"회","") | AG21: 배점 | AH21: =INDEX($AI$7:$AL$12,AH19,AH20) -> 1
A22: 라인3 (1com) | B22: 옆돌기 | H22: 측전 | N22: 콕스더블 | Z22: =N25 -> 5 | AB22: 라인3 (1com) | AC22: =B22 -> 옆돌기 | AD22: =COUNTIF($AC$4:AC$31,AC22) -> 2 | AE22: =IF(OR(AC22=0,AC22="훅"),"",IF(AD22>3,AC22&" "&AD22&"회",""))
AC23: =H22 -> 측전 | AD23: =COUNTIF($AC$4:AC$31,AC23) -> 2 | AE23: =IF(OR(AC23=0,AC23="훅"),"",IF(AD23>3,AC23&" "&AD23&"회","")) | AG23: 연결기 | AH23: =IF(ISBLANK(Q29),IF(N27=$AG$7,$AH$7,IF(OR(N27=$AG$8,Q27=$AG$8),$AH$8,IF(ISBLANK(N27),$AH$9,IF(ISBLANK(Q27),$AH$10,$AH$11)))),$AH$12) -> 4
AC24: =N22 -> 콕스더블 | AD24: =COUNTIF($AC$4:AC$31,AC24) -> 2 | AE24: =IF(AD24>2,AC24&" "&AD24&"회","") | AG24: 앞뒤기술종류 | AH24: =IF(AND(H30>=5,T30>=5),$AL$6,IF(OR(AND(H30>=5,T30>=4),AND(H30>=4,T30>=5)),$AK$6,IF(OR(H30>=5,T30>=5),$AJ$6,$AI$6))) -> 1
B25: =IF(OR(B22=$AG$8,H22=$AG$8),IF(N25>=5,$AJ$8,$AI$8),0) -> 0 | N25: =VLOOKUP(N22,기준!$B:$C,2,FALSE) -> 5 | T25: =VLOOKUP(T22,기준!$B:$C,2,FALSE) -> #N/A | AB25: 라인4 (2com) | AC25: =B27 -> 0 | AD25: =COUNTIF($AC$4:AC$31,AC25) -> 10 | AE25: =IF(OR(AC25=0,AC25="훅"),"",IF(AD25>3,AC25&" "&AD25&"회","")) | AG25: 배점 | AH25: =INDEX($AI$7:$AL$12,AH23,AH24) -> 0.2
AC26: =E27 -> 0 | AD26: =COUNTIF($AC$4:AC$31,AC26) -> 10 | AE26: =IF(OR(AC26=0,AC26="훅"),"",IF(AD26>3,AC26&" "&AD26&"회",""))
A27: 라인4 (2com) | H27: 콕스크류 | N27: 옆돌기 | T27: p720 | Z27: =H30+N30+T30 -> 5.5 | AC27: =H27 -> 콕스크류 | AD27: =COUNTIF($AC$4:AC$31,AC27) -> 1 | AE27: =IF(AD27>2,AC27&" "&AD27&"회","")
AC28: =N27 -> 옆돌기 | AD28: =COUNTIF($AC$4:AC$31,AC28) -> 2 | AE28: =IF(OR(AC28=0,AC28="훅"),"",IF(AD28>3,AC28&" "&AD28&"회",""))
AC29: =Q27 -> 0 | AD29: =COUNTIF($AC$4:AC$31,AC29) -> 10 | AE29: =IF(OR(AC29=0,AC29="훅"),"",IF(AD29>3,AC29&" "&AD29&"회",""))
B30: =IF(OR(B27=$AG$8,E27=$AG$8),IF(H30>=5,$AJ$8,$AI$8),0) -> 0 | H30: =VLOOKUP(H27,기준!$B:$C,2,FALSE) -> 3 | N30: =AH25 -> 0.2 | T30: =VLOOKUP(T27,기준!$B:$C,2,FALSE) -> 2.3 | AC30: =Q29 -> 0 | AD30: =COUNTIF($AC$4:AC$31,AC30) -> 10 | AE30: =IF(OR(AC30=0,AC30="훅"),"",IF(AD30>3,AC30&" "&AD30&"회",""))
AC31: =T27 -> p720 | AD31: =COUNTIF($AC$4:AC$31,AC31) -> 1 | AE31: =IF(AD31>2,AC31&" "&AD31&"회","")
A32: 신청점수 | B32: =Z12+Z17+Z22+Z27 -> 28.3 | H32: 감점 | T32: 가산점
A35: 심판최종점수

Sheet 기준
A1: 구분 | B1: 기술명 | C1: 점수
B2: 크레센트킥 | C2: 0.7
B3: 앞공중 | C3: 1
B4: 백플립 | C4: 1
B5: 에어리얼 | C5: 1
B6: 웹스터 | C6: 1
B7: P540 | C7: 1
B8: 칫게이너 | C8: 1
B9: 뒤공중플래시킥 | C9: 1.3
B10: 게이너플래시 | C10: 1.3
B11: C360스와이프 | C11: 1.3
B12: 뒤공중티그랩 | C12: 1.5
B13: B540 | C13: 1.5
... B26: B720 | C26: 2.8
B27: P720스와이프 | C27: 2,8
B28: C720 | C28: 2.8
B29: BT하이퍼 | C29: 3
B30: 콕스크류 | C30: 3
B31: 훌턴 | C31: 3
B32: BT일루션라운드킥 | C32: 3.1
B33: BT페이롱 | C33: 3.1
B34: F900 | C34: 3.2
B35: BT스와이프 | C35: 3.3
B36: 콕스라운드킥 | C36: 3.3
B37: 훌턴라운드킥 | C37: 3.3
B38: 콕스일루션 | C38: 3.3
B39: 훌턴일루션 | C39: 3.3
... B105: 훌턴더블스내퍼스와이프 | C105: 7.3
