Workbook

Sheet 3 line
A1: 3Line 기술 신청표
AB2: 1. 기술 개수 & 점수 제한 | AH2: 2. 연결가산점수 계산
AB3: 구분 | AC3: 기술명 | AD3: 빈도 | AE3: 점수 | AF3: MESSAGE
A4: 선수정보 | AB4: 라인1 (2com) | AC4: =B12 -> 옆돌기 | AD4: =COUNTIF($AC$4:AC$22,AC4) -> 1 | AF4: =IF(AC4=0,"",IF(AD4>2,AC4&" "&AD4&"회","")) | AH4: 연결가산점수 배점표 | AJ4: 기본점수 | AK4: 한 기술 5점 이상 | AL4: 5점 이상 + 4점 이상 | AM4: 5점 이상 + 5점 이상
AC5: =E12 -> c/t | AD5: =COUNTIF($AC$4:AC$22,AC5) -> 1 | AF5: =IF(AC5=0,"",IF(AD5>2,AC5&" "&AD5&"회",""))
A6: 참가부문 | H6: 팀명 | T6: 선수명 | AC6: =H12 -> 훌턴더블 | AD6: =COUNTIF($AC$4:AC$22,AC6) -> 1 | AE6: =IF(H15>=5, 1,0) -> 1 | AF6: =IF(AC6=0,"",IF(AD6>2,AC6&" "&AD6&"회","")) | AJ6: 1 | AK6: 2 | AL6: 3 | AM6: 4
AC7: =N12 -> 훅 | AD7: =COUNTIF($AC$4:AC$22,AC7) -> 1 | AF7: =IF(AC7=0,"",IF(AD7>2,AC7&" "&AD7&"회","")) | AH7: s/t | AI7: 1 | AJ7: 0.5 | AK7: 1 | AL7: 2 | AM7: 3
AC8: =Q12 -> 0 | AD8: =COUNTIF($AC$4:AC$22,AC8) -> 8 | AF8: =IF(AC8=0,"",IF(AD8>2,AC8&" "&AD8&"회","")) | AH8: c/t | AI8: 2 | AJ8: 0.5 | AK8: 1 | AL8: 2 | AM8: 3
A9: 기술구성안 | AC9: =T12 -> 훌턴트리플 | AD9: =COUNTIF($AC$4:AC$22,AC9) -> 1 | AE9: =IF(T15>=5, 1,0) -> 1 | AF9: =IF(AC9=0,"",IF(AD9>2,AC9&" "&AD9&"회","")) | AH9: A기술 0개 | AI9: 3 | AJ9: 0.3 | AK9: 0.5 | AL9: 0.5 | AM9: 2
AB10: 라인2 (3com) | AC10: =B17 -> 0 | AD10: =COUNTIF($AC$4:AC$22,AC10) -> 8 | AF10: =IF(AC10=0,"",IF(AD10>2,AC10&" "&AD10&"회","")) | AH10: A기술 1개 | AI10: 4 | AJ10: 0.2 | AK10: 0.3 | AL10: 0.3 | AM10: 0.5
A11: 기술 구성 | Z11: 신청 점수 | AC11: =D17 -> 0 | AD11: =COUNTIF($AC$4:AC$22,AC11) -> 8 | AF11: =IF(AC11=0,"",IF(AD11>2,AC11&" "&AD11&"회","")) | AH11: A기술 2개 | AI11: 5 | AJ11: 0.1 | AK11: 0.2 | AL11: 0.2 | AM11: 0.3
A12: 라인1 (2com) | B12: 옆돌기 | E12: c/t | H12: 훌턴더블 | N12: 훅 | T12: 훌턴트리플 | Z12: =H15+N15+T15 -> 12.5 | AC12: =F17 -> f720 | AD12: =COUNTIF($AC$4:AC$22,AC12) -> 1 | AE12: =IF(F20>=5, 1,0) -> 0 | AF12: =IF(AC12=0,"",IF(AD12>2,AC12&" "&AD12&"회","")) | AH12: A기술 3개 | AI12: 6 | AJ12: 0 | AK12: 0 | AL12: 0 | AM12: 0
AC13: =J17 -> 0 | AD13: =COUNTIF($AC$4:AC$22,AC13) -> 8 | AF13: =IF(AC13=0,"",IF(AD13>2,AC13&" "&AD13&"회",""))
AC14: =L17 -> 0 | AD14: =COUNTIF($AC$4:AC$22,AC14) -> 8 | AF14: =IF(AC14=0,"",IF(AD14>2,AC14&" "&AD14&"회","")) | AH14: 연결기 | AI14: =IF(ISBLANK(Q14),IF(N12=$AH$7,$AI$7,IF(OR(N12=$AH$8,Q12=$AH$8),$AI$8,IF(ISBLANK(N12),$AI$9,IF(ISBLANK(Q12),$AI$10,$AI$11)))),$AI$12) -> 4
B15: =IF(OR(B12=$AH$8,E12=$AH$8),IF(H15>=5,$AK$8,$AJ$8),0) -> 1 | H15: =VLOOKUP(H12,기준!$B:$C,2,FALSE) -> 5 | N15: =AI16 -> 0.5 | T15: =VLOOKUP(T12,기준!$B:$C,2,FALSE) -> 7 | AC15: =N17 -> c720 | AD15: =COUNTIF($AC$4:AC$22,AC15) -> 1 | AE15: =IF(N20>=5, 1,0) -> 0 | AF15: =IF(AC15=0,"",IF(AD15>2,AC15&" "&AD15&"회","")) | AH15: 앞뒤기술종류 | AI15: =IF(AND(H15>=5,T15>=5),$AM$6,IF(OR(AND(H15>=5,T15>=4),AND(H15>=4,T15>=5)),$AL$6,IF(OR(H15>=5,T15>=5),$AK$6,$AJ$6))) -> 4
AC16: =R17 -> 0 | AD16: =COUNTIF($AC$4:AC$22,AC16) -> 8 | AF16: =IF(AC16=0,"",IF(AD16>2,AC16&" "&AD16&"회","")) | AH16: 배점 | AI16: =INDEX($AJ$7:$AM$12,AI14,AI15) -> 0.5
A17: 라인2 (3com) | F17: f720 | N17: c720 | V17: bt | Z17: =F20+J20+N20+R20+V20 -> 7.9 | AC17: =T17 -> 0 | AD17: =COUNTIF($AC$4:AC$22,AC17) -> 8 | AF17: =IF(AC17=0,"",IF(AD17>2,AC17&" "&AD17&"회",""))
AC18: =V17 -> bt | AD18: =COUNTIF($AC$4:AC$22,AC18) -> 1 | AE18: =IF(V20>=5, 1,0) -> 0 | AF18: =IF(AC18=0,"",IF(AD18>2,AC18&" "&AD18&"회","")) | AH18: 연결기 | AI18: =IF(ISBLANK(L19),IF(J17=$AH$7,$AI$7,IF(OR(J17=$AH$8,L17=$AH$8),$AI$8,IF(ISBLANK(J17),$AI$9,IF(ISBLANK(L17),$AI$10,$AI$11)))),$AI$12) -> 3 | AJ18: =IF(ISBLANK(T19),IF(R17=$AH$7,$AI$7,IF(OR(R17=$AH$8,T17=$AH$8),$AI$8,IF(ISBLANK(R17),$AI$9,IF(ISBLANK(T17),$AI$10,$AI$11)))),$AI$12) -> 3
AB19: 라인3 (1com) | AC19: =B22 -> 측전 | AD19: =COUNTIF($AC$4:AC$22,AC19) -> 1 | AF19: =IF(AC19=0,"",IF(AD19>2,AC19&" "&AD19&"회","")) | AH19: 앞뒤기술종류 | AI19: =IF(AND(F20>=5,N20>=5),$AM$6,IF(OR(AND(F20>=5,N20>=4),AND(F20>=4,N20>=5)),$AL$6,IF(OR(F20>=5,N20>=5),$AK$6,$AJ$6))) -> 1 | AJ19: =IF(AND(N20>=5,V20>=5),$AM$6,IF(OR(AND(N20>=5,V20>=4),AND(N20>=4,V20>=5)),$AL$6,IF(OR(N20>=5,V20>=5),$AK$6,$AJ$6))) -> 1
B20: =IF(OR(B17=$AH$8,D17=$AH$8),IF(F20>=5,$AK$8,$AJ$8),0) -> 0 | F20: =VLOOKUP(F17,기준!$B:$C,2,FALSE) -> 2 | J20: =AI20 -> 0.3 | N20: =VLOOKUP(N17,기준!$B:$C,2,FALSE) -> 2.8 | R20: =AJ20 -> 0.3 | V20: =VLOOKUP(V17,기준!$B:$C,2,FALSE) -> 2.5 | AC20: =H22 -> 0 | AD20: =COUNTIF($AC$4:AC$22,AC20) -> 8 | AF20: =IF(AC20=0,"",IF(AD20>2,AC20&" "&AD20&"회","")) | AH20: 배점 | AI20: =INDEX($AJ$7:$AM$12,AI18,AI19) -> 0.3 | AJ20: =INDEX($AJ$7:$AM$12,AJ18,AJ19) -> 0.3
AC21: =N22 -> 뒤공중두바퀴 | AD21: =COUNTIF($AC$4:AC$22,AC21) -> 1 | AE21: =IF(N25>=5, 1,0) -> 1 | AF21: =IF(AC21=0,"",IF(AD21>2,AC21&" "&AD21&"회",""))
A22: 라인3 (1com) | B22: 측전 | N22: 뒤공중두바퀴 | Z22: =N25 -> 5.5 | AF22: =IF(SUM(AE4:AE21)>1,"5점이상 기술 "&SUM(AE4:AE21)&"회 사용되었습니다","") -> 5점이상 기술 3회 사용되었습니다
B25: =IF(OR(B22=$AH$8,H22=$AH$8),IF(N25>=5,$AK$8,$AJ$8),0) -> 0 | N25: =VLOOKUP(N22,기준!$B:$C,2,FALSE) -> 5.5 | T25: =VLOOKUP(T22,기준!$B:$C,2,FALSE) -> #N/A
A27: 신청점수 | B27: =Z12+Z22+Z17 -> 25.9 | H27: 감점 | T27: 가산점
A30: 심판최종점수

Sheet 기준
A1: 구분 | B1: 기술명 | C1: 점수
B2: 크레센트킥 | C2: 0.7
B3: 앞공중 | C3: 1
B4: 백플립 | C4: 1
B5: 에어리얼 | C5: 1
B6: 웹스터 | C6: 1
B7: P540 | C7: 1
B8: 칫게이너 | C8: 1
B9: 뒤공중플래시킥 | C9: 1.3
B10: 게이너플래시 | C10: 1.3
B11: C360스와이프 | C11: 1.3
B12: 뒤공중티그랩 | C12: 1.5
B13: B540 | C13: 1.5
... B26: B720 | C26: 2.8
B27: P720스와이프 | C27: 2,8
B28: C720 | C28: 2.8
B29: BT하이퍼 | C29: 3
B30: 콕스크류 | C30: 3
B31: 훌턴 | C31: 3
B32: BT일루션라운드킥 | C32: 3.1
B33: BT페이롱 | C33: 3.1
B34: F900 | C34: 3.2
B35: BT스와이프 | C35: 3.3
B36: 콕스라운드킥 | C36: 3.3
B37: 훌턴라운드킥 | C37: 3.3
B38: 콕스일루션 | C38: 3.3
B39: 훌턴일루션 | C39: 3.3
... B105: 훌턴더블스내퍼스와이프 | C105: 7.3
